BEGIN:VCALENDAR
VERSION:2.0
METHOD:PUBLISH
PRODID:-//Accessible Web Design//My Calendar//http://www.joedolson.com//v//EN';
BEGIN:VEVENT
UID:98-51
LOCATION:Local 68 Atlantic City facility 1501 Pacific Ave  Atlantic City NJ 08401
SUMMARY:Membership Meeting - Evening
DTSTAMP:20241003T170000
ORGANIZER;CN=Rob Adams:MAILTO:radams@local68.org
DTSTART:20241003T170000
DTEND:20241003T200000
CATEGORIES:Membership Meeting
URL;VALUE=URI:https://local68.org/mc-events/membership-meeting-evening-16/?mc_id=98
DESCRIPTION:Local 68 Union meeting &nbsp;
END:VEVENT
END:VCALENDAR