BEGIN:VCALENDAR
VERSION:2.0
METHOD:PUBLISH
PRODID:-//Accessible Web Design//My Calendar//http://www.joedolson.com//v//EN';
BEGIN:VEVENT
UID:97-50
LOCATION:Newark Museum 49 Washington Street  Newark NJ
SUMMARY:Membership Meeting - Evening
DTSTAMP:20240905T183000
ORGANIZER;CN=Rob Adams:MAILTO:radams@local68.org
DTSTART:20240905T183000
DTEND:20240905T200000
CATEGORIES:Membership Meeting
URL;VALUE=URI:https://local68.org/mc-events/membership-meeting-evening-15/?mc_id=97
DESCRIPTION:Local 68 Union meeting &nbsp;
END:VEVENT
END:VCALENDAR