BEGIN:VCALENDAR
VERSION:2.0
METHOD:PUBLISH
PRODID:-//Accessible Web Design//My Calendar//http://www.joedolson.com//v//EN';
BEGIN:VEVENT
UID:96-49
LOCATION:Local 68 Training Center 14 Fairfield Place  West Caldwell NJ 07006
SUMMARY:Membership Meeting - Evening
DTSTAMP:20240606T183000
ORGANIZER;CN=Rob Adams:MAILTO:radams@local68.org
DTSTART:20240606T183000
DTEND:20240606T200000
CATEGORIES:Membership Meeting
URL;VALUE=URI:https://local68.org/mc-events/membership-meeting-evening-14/?mc_id=96
DESCRIPTION:Local 68 Union meeting &nbsp;
END:VEVENT
END:VCALENDAR