BEGIN:VCALENDAR
VERSION:2.0
METHOD:PUBLISH
PRODID:-//Accessible Web Design//My Calendar//http://www.joedolson.com//v//EN';
BEGIN:VEVENT
UID:95-48
LOCATION:FSOS Shillelagh 15 Oak Street  Old Bridge NJ
SUMMARY:Membership Meeting - Evening
DTSTAMP:20240502T183000
ORGANIZER;CN=Rob Adams:MAILTO:radams@local68.org
DTSTART:20240502T183000
DTEND:20240502T200000
CATEGORIES:Membership Meeting
URL;VALUE=URI:https://local68.org/mc-events/membership-meeting-evening-13/?mc_id=95
DESCRIPTION:Local 68 Union meeting &nbsp;
END:VEVENT
END:VCALENDAR