BEGIN:VCALENDAR
VERSION:2.0
METHOD:PUBLISH
PRODID:-//Accessible Web Design//My Calendar//http://www.joedolson.com//v//EN';
BEGIN:VEVENT
UID:94-47
LOCATION:I.B.E.W. Local 269 670 Whitehead Road  Lawrenceville NJ
SUMMARY:Membership Meeting - Evening
DTSTAMP:20240404T183000
ORGANIZER;CN=Rob Adams:MAILTO:radams@local68.org
DTSTART:20240404T183000
DTEND:20240404T200000
CATEGORIES:Membership Meeting
URL;VALUE=URI:https://local68.org/mc-events/membership-meeting-evening-12/?mc_id=94
DESCRIPTION:Local 68 Union meeting &nbsp;
END:VEVENT
END:VCALENDAR