BEGIN:VCALENDAR
VERSION:2.0
METHOD:PUBLISH
PRODID:-//Accessible Web Design//My Calendar//http://www.joedolson.com//v//EN';
BEGIN:VEVENT
UID:93-46
LOCATION:Clifton Elks Lodge #1569 775 Clifton Ave  Clifton NJ 07013
SUMMARY:Membership Meeting - Evening
DTSTAMP:20240307T183000
ORGANIZER;CN=Rob Adams:MAILTO:radams@local68.org
DTSTART:20240307T183000
DTEND:20240307T200000
CATEGORIES:Membership Meeting
URL;VALUE=URI:https://local68.org/mc-events/membership-meeting-evening-11/?mc_id=93
DESCRIPTION:Local 68 Union meeting &nbsp;
END:VEVENT
END:VCALENDAR