BEGIN:VCALENDAR
VERSION:2.0
METHOD:PUBLISH
PRODID:-//Accessible Web Design//My Calendar//http://www.joedolson.com//v//EN';
BEGIN:VEVENT
UID:92-45
LOCATION:Moose Lodge #266 - Jersey City 60 West Side Ave  Jersey City NJ
SUMMARY:Membership Meeting - Evening
DTSTAMP:20240201T170000
ORGANIZER;CN=Rob Adams:MAILTO:radams@local68.org
DTSTART:20240201T170000
DTEND:20240201T170000
CATEGORIES:Membership Meeting
URL;VALUE=URI:https://local68.org/mc-events/membership-meeting-evening-10/?mc_id=92
DESCRIPTION:Local 68 Union meeting &nbsp;
END:VEVENT
END:VCALENDAR