BEGIN:VCALENDAR
VERSION:2.0
METHOD:PUBLISH
PRODID:-//Accessible Web Design//My Calendar//http://www.joedolson.com//v//EN';
BEGIN:VEVENT
UID:91-44
LOCATION:Hanover Manor 16 Eagle Rock Avenue  East Hanover NJ
SUMMARY:63rd Annual Engineer's Sunday
DTSTAMP:20240128T093000
ORGANIZER;CN=Rob Adams:MAILTO:radams@local68.org
DTSTART:20240128T093000
DTEND:20240128T103000
CATEGORIES:Event
URL;VALUE=URI:https://local68.org/mc-events/63rd-annual-engineers-sunday/?mc_id=91
DESCRIPTION:Engineer Sunday 63rd 2024 ANNIVERSARY FLYER 63RD  ANNIVERSARY ENGINEERS’ SUNDAY A LOCAL 68 TRADITION You are cordially invited to attend ENGINEERS’ SUNDAY Ecumenical Mass for the Living and Deceased Members of International Union of Operating Engineers Local Union 68 SUNDAY, JANUARY 28, 2024 - 9:30 am Purchase Tickets Online! Hanover Manor 16 Eagle Rock Avenue,&hellip;
END:VEVENT
END:VCALENDAR