BEGIN:VCALENDAR
VERSION:2.0
METHOD:PUBLISH
PRODID:-//Accessible Web Design//My Calendar//http://www.joedolson.com//v//EN';
BEGIN:VEVENT
UID:90-43
LOCATION:Local 68 Atlantic City facility 1501 Pacific Ave  Atlantic City NJ 08401
SUMMARY:Membership Meeting - Evening
DTSTAMP:20240104T170000
ORGANIZER;CN=Rob Adams:MAILTO:radams@local68.org
DTSTART:20240104T170000
DTEND:20240104T180000
CATEGORIES:Membership Meeting
URL;VALUE=URI:https://local68.org/mc-events/membership-meeting-evening-9/?mc_id=90
DESCRIPTION:Local 68 Union meeting 5:00pm, Atlantic City facility. 1501 Pacific Ave, Atlantic City, NJ 08401 &nbsp;
END:VEVENT
END:VCALENDAR