BEGIN:VCALENDAR
VERSION:2.0
METHOD:PUBLISH
PRODID:-//Accessible Web Design//My Calendar//http://www.joedolson.com//v//EN';
BEGIN:VEVENT
UID:89-42
LOCATION:
SUMMARY:New Year's Day - Local 68 Offices Closed
DTSTAMP:20231231
ORGANIZER;CN=Rob Adams:MAILTO:radams@local68.org
DTSTART:20231231
DTEND:20240102
CATEGORIES:Holiday - Local 68 closed
URL;VALUE=URI:https://local68.org/mc-events/new-years-day-local-68-offices-closed-2/?mc_id=89
DESCRIPTION:
X-FUNAMBOL-ALLDAY: 1
X-MICROSOFT-CDO-ALLDAYEVENT: TRUE

END:VEVENT
END:VCALENDAR