BEGIN:VCALENDAR
VERSION:2.0
METHOD:PUBLISH
PRODID:-//Accessible Web Design//My Calendar//http://www.joedolson.com//v//EN';
BEGIN:VEVENT
UID:88-12
LOCATION:
SUMMARY:Christmas Eve - Local 68 offices closed
DTSTAMP:20231226T000000
ORGANIZER;CN=Rob Adams:MAILTO:radams@local68.org
DTSTART:20231226T000000
DTEND:20231226T010000
CATEGORIES:Holiday - Local 68 closed
URL;VALUE=URI:https://local68.org/mc-events/christmas-eve-local-68-offices-closed/?mc_id=88
DESCRIPTION:
END:VEVENT
END:VCALENDAR