BEGIN:VCALENDAR
VERSION:2.0
METHOD:PUBLISH
PRODID:-//Accessible Web Design//My Calendar//http://www.joedolson.com//v//EN';
BEGIN:VEVENT
UID:86-40
LOCATION:Hard Rock Hotel &amp; Casino 1000 Boardwalk  Atlantic City NJ 08401
SUMMARY:Holiday Meeting - South NJ - 1:00pm
DTSTAMP:20231213T130000
ORGANIZER;CN=Rob Adams:MAILTO:radams@local68.org
DTSTART:20231213T130000
DTEND:20231213T160000
CATEGORIES:Membership Meeting
URL;VALUE=URI:https://local68.org/mc-events/holiday-meeting-south-nj-100pm/?mc_id=86
DESCRIPTION:Holiday Reception &amp; Food Drive Food, Drink, &amp; Holiday cheer! Hard Rock Hotel &amp; Casino - Hollywood Ballroom PLEASE BRING NON-PERISHABLE FOOD ITEMS OR CASH DONATION  NO GLASS Come celebrate the Holiday Season with your Union brothers &amp; sisters! Dinner and Beverages will be served $5 Parking Discount with the QR code in the flyer&hellip;
END:VEVENT
END:VCALENDAR