BEGIN:VCALENDAR
VERSION:2.0
METHOD:PUBLISH
PRODID:-//Accessible Web Design//My Calendar//http://www.joedolson.com//v//EN';
BEGIN:VEVENT
UID:81-36
LOCATION:
SUMMARY:Beefsteak Dinner - 12th Annual
DTSTAMP:20231027T180000
ORGANIZER;CN=Rob Adams:MAILTO:radams@local68.org
DTSTART:20231027T180000
DTEND:20231027T190000
CATEGORIES:Event
URL;VALUE=URI:https://local68.org/mc-events/beefsteak-dinner-12th-annual/?mc_id=81
DESCRIPTION:The Union is sponsoring its 12th Annual Beefsteak on Friday, October 27, 2023 at the Veterans Center (VFW), 33 South 21st Street (off the Boulevard) Kenilworth, NJ  908-276-9769 Start at 6:00pm There's a good food menu and refreshments planned at $70 per person.  A good time is guaranteed for all attendees.  In the event you&hellip;
END:VEVENT
END:VCALENDAR