BEGIN:VCALENDAR
VERSION:2.0
METHOD:PUBLISH
PRODID:-//Accessible Web Design//My Calendar//http://www.joedolson.com//v//EN';
BEGIN:VEVENT
UID:80-35
LOCATION:Clifton Elks Lodge #1569 775 Clifton Ave  Clifton NJ 07013
SUMMARY:Membership Meeting - Evening
DTSTAMP:20231102T183000
ORGANIZER;CN=Rob Adams:MAILTO:radams@local68.org
DTSTART:20231102T183000
DTEND:20231102T200000
CATEGORIES:Membership Meeting
URL;VALUE=URI:https://local68.org/mc-events/membership-meeting-evening-8/?mc_id=80
DESCRIPTION:
END:VEVENT
END:VCALENDAR