BEGIN:VCALENDAR
VERSION:2.0
METHOD:PUBLISH
PRODID:-//Accessible Web Design//My Calendar//http://www.joedolson.com//v//EN';
BEGIN:VEVENT
UID:78-34
LOCATION:Local 68 Atlantic City facility 1501 Pacific Ave  Atlantic City NJ 08401
SUMMARY:Membership Meeting - Evening
DTSTAMP:20231005T170000
ORGANIZER;CN=Rob Adams:MAILTO:radams@local68.org
DTSTART:20231005T170000
DTEND:20231005T183000
CATEGORIES:Membership Meeting
URL;VALUE=URI:https://local68.org/mc-events/membership-meeting-evening-7/?mc_id=78
DESCRIPTION:This meeting will be a good opportunity for the membership to visit the Union's new facility and witness the many positive programs that are currently being undertaken. There will be sandwiches and soft refreshments. If attending, PLEASE RSVP to Denise Allen at (609)347-3200 so adequate food can be provided. We will be honoring the South&hellip;
END:VEVENT
END:VCALENDAR