BEGIN:VCALENDAR
VERSION:2.0
METHOD:PUBLISH
PRODID:-//Accessible Web Design//My Calendar//http://www.joedolson.com//v//EN';
BEGIN:VEVENT
UID:77-33
LOCATION:Liberty Science Center 222 Jersey City Blvd  Jersey City NJ
SUMMARY:Membership Meeting - Evening
DTSTAMP:20230907T183000
ORGANIZER;CN=Rob Adams:MAILTO:radams@local68.org
DTSTART:20230907T183000
DTEND:20230907T200000
CATEGORIES:Membership Meeting
URL;VALUE=URI:https://local68.org/mc-events/membership-meeting-evening-6/?mc_id=77
DESCRIPTION:&nbsp; The Local 68 Installation of Officers meeting is scheduled for THURSDAY, SEPTEMBER 7, 2023 at 6:30 PM at the LIBERTY SCIENCE CENTER, 222 JERSEY CITY BLVD., JERSEY CITY, NJ (Turnpike Exit 14C). &nbsp;
END:VEVENT
END:VCALENDAR