BEGIN:VCALENDAR
VERSION:2.0
METHOD:PUBLISH
PRODID:-//Accessible Web Design//My Calendar//http://www.joedolson.com//v//EN';
BEGIN:VEVENT
UID:65-30
LOCATION:
SUMMARY:Election Day - VOTE!
DTSTAMP:20231106
ORGANIZER;CN=Rob Adams:MAILTO:radams@local68.org
DTSTART:20231106
DTEND:20231108
CATEGORIES:Event
URL;VALUE=URI:https://local68.org/mc-events/election-day-vote/?mc_id=65
DESCRIPTION:
X-FUNAMBOL-ALLDAY: 1
X-MICROSOFT-CDO-ALLDAYEVENT: TRUE

END:VEVENT
END:VCALENDAR