BEGIN:VCALENDAR
VERSION:2.0
METHOD:PUBLISH
PRODID:-//Accessible Web Design//My Calendar//http://www.joedolson.com//v//EN';
BEGIN:VEVENT
UID:5-4
LOCATION:
SUMMARY:Independence Day - Local 68 Offices closed
DTSTAMP:20240703
ORGANIZER;CN=Rob Adams:MAILTO:radams@local68.org
DTSTART:20240703
DTEND:20240705
CATEGORIES:Holiday - Local 68 closed
URL;VALUE=URI:https://local68.org/mc-events/independence-day-local-68-offices-closed/?mc_id=5
DESCRIPTION:
X-FUNAMBOL-ALLDAY: 1
X-MICROSOFT-CDO-ALLDAYEVENT: TRUE

END:VEVENT
END:VCALENDAR