BEGIN:VCALENDAR
VERSION:2.0
METHOD:PUBLISH
PRODID:-//Accessible Web Design//My Calendar//http://www.joedolson.com//v//EN';
BEGIN:VEVENT
UID:43-27
LOCATION:
SUMMARY:Juneteenth - Local 68 Offices Closed
DTSTAMP:20240618
ORGANIZER;CN=Rob Adams:MAILTO:radams@local68.org
DTSTART:20240618
DTEND:20240620
CATEGORIES:Holiday - Local 68 closed
URL;VALUE=URI:https://local68.org/mc-events/juneteenth-local-68-offices-closed/?mc_id=43
DESCRIPTION:Juneteenth - Local 68 Offices Closed
X-FUNAMBOL-ALLDAY: 1
X-MICROSOFT-CDO-ALLDAYEVENT: TRUE

END:VEVENT
END:VCALENDAR