BEGIN:VCALENDAR
VERSION:2.0
METHOD:PUBLISH
PRODID:-//Accessible Web Design//My Calendar//http://www.joedolson.com//v//EN';
BEGIN:VEVENT
UID:41-8
LOCATION:
SUMMARY:Good Friday - Local 68 offices closed
DTSTAMP:20230407T000000
ORGANIZER;CN=Rob Adams:MAILTO:radams@local68.org
DTSTART:20230407T000000
DTEND:20230407T010000
CATEGORIES:Holiday - Local 68 closed
URL;VALUE=URI:https://local68.org/mc-events/good-friday-local-68-offices-closed/?mc_id=41
DESCRIPTION:
END:VEVENT
END:VCALENDAR