BEGIN:VCALENDAR
VERSION:2.0
METHOD:PUBLISH
PRODID:-//Accessible Web Design//My Calendar//http://www.joedolson.com//v//EN';
BEGIN:VEVENT
UID:40-25
LOCATION:VFW Post Lodge #2230 33 South 21st Street  Kenilworth NJ
SUMMARY:Membership Meeting - Evening
DTSTAMP:20230511T183000
ORGANIZER;CN=Rob Adams:MAILTO:radams@local68.org
DTSTART:20230511T183000
DTEND:20230511T200000
CATEGORIES:Membership Meeting
URL;VALUE=URI:https://local68.org/mc-events/membership-meeting-evening-4/?mc_id=40
DESCRIPTION:Honoring 50 year members of Local 68. &nbsp;
END:VEVENT
END:VCALENDAR