BEGIN:VCALENDAR
VERSION:2.0
METHOD:PUBLISH
PRODID:-//Accessible Web Design//My Calendar//http://www.joedolson.com//v//EN';
BEGIN:VEVENT
UID:39-24
LOCATION:I.B.E.W. Local 269 670 Whitehead Road  Lawrenceville NJ
SUMMARY:Membership Meeting - Evening
DTSTAMP:20230406T183000
ORGANIZER;CN=Rob Adams:MAILTO:radams@local68.org
DTSTART:20230406T183000
DTEND:20230406T200000
CATEGORIES:Membership Meeting
URL;VALUE=URI:https://local68.org/mc-events/membership-meeting-evening-3/?mc_id=39
DESCRIPTION:Honoring 50 year members of Local 68.
END:VEVENT
END:VCALENDAR