BEGIN:VCALENDAR
VERSION:2.0
METHOD:PUBLISH
PRODID:-//Accessible Web Design//My Calendar//http://www.joedolson.com//v//EN';
BEGIN:VEVENT
UID:38-23
LOCATION:Local 68 Training Center 14 Fairfield Place  West Caldwell NJ 07006
SUMMARY:Blood Drive 2023
DTSTAMP:20230510T090000
ORGANIZER;CN=Rob Adams:MAILTO:radams@local68.org
DTSTART:20230510T090000
DTEND:20230510T180000
CATEGORIES:Blood Drive
URL;VALUE=URI:https://local68.org/mc-events/blood-drive-2023/?mc_id=38
DESCRIPTION:Local 68 Operating Engineers Blood Drive Local 68 Training Center, Classroom #4 14 Fairfield Place, West Caldwell NJ 07006 Please Schedule an Appointment! Call 800-RED-CROSS (800-733-2767) or visit RedCrossBlood.org and enter Local 68 Fairfield Maximize your blood donation.  Help more patients. If you are an eligible donor of type O, B, or A, consider making&hellip;
END:VEVENT
END:VCALENDAR