BEGIN:VCALENDAR
VERSION:2.0
METHOD:PUBLISH
PRODID:-//Accessible Web Design//My Calendar//http://www.joedolson.com//v//EN';
BEGIN:VEVENT
UID:36-22
LOCATION:
SUMMARY:St. Patrick's parade
DTSTAMP:20230310T100000
ORGANIZER;CN=Rob Adams:MAILTO:radams@local68.org
DTSTART:20230310T100000
DTEND:20230310T150000
CATEGORIES:Event
URL;VALUE=URI:https://local68.org/mc-events/st-patricks-parade/?mc_id=36
DESCRIPTION:Join Local 68 for a St. Patrick's day celebration in Newark.
END:VEVENT
END:VCALENDAR