BEGIN:VCALENDAR
VERSION:2.0
METHOD:PUBLISH
PRODID:-//Accessible Web Design//My Calendar//http://www.joedolson.com//v//EN';
BEGIN:VEVENT
UID:34-20
LOCATION:Moose Lodge #266 - Jersey City 60 West Side Ave  Jersey City NJ
SUMMARY:Membership Meeting - Evening
DTSTAMP:20230202T183000
ORGANIZER;CN=Rob Adams:MAILTO:radams@local68.org
DTSTART:20230202T183000
DTEND:20230202T200000
CATEGORIES:Membership Meeting
URL;VALUE=URI:https://local68.org/mc-events/membership-meeting-evening/?mc_id=34
DESCRIPTION:
END:VEVENT
END:VCALENDAR