BEGIN:VCALENDAR
VERSION:2.0
METHOD:PUBLISH
PRODID:-//Accessible Web Design//My Calendar//http://www.joedolson.com//v//EN';
BEGIN:VEVENT
UID:32-18
LOCATION:
SUMMARY:Master Plumber License Update Class
DTSTAMP:20230624T080000
ORGANIZER;CN=Rob Adams:MAILTO:radams@local68.org
DTSTART:20230624T080000
DTEND:20230624T130000
CATEGORIES:Training
URL;VALUE=URI:https://local68.org/mc-events/master-plumber-license-update-class-4/?mc_id=32
DESCRIPTION:NJ 5 Hour Master Plumber License Update Class Location: 1501 Pacific Ave., Atlantic City, N.J. Local 68 Training Center (Corner of New York &amp; Pacific) (Parking In Rear) Saturdays (one): February 4th, March 11th, April 22nd, June 24th, 2023 Time: 8:00 AM to 1:00 PM $50.00 cost to Local 68 Members The 2021 code book&hellip;
END:VEVENT
END:VCALENDAR