BEGIN:VCALENDAR
VERSION:2.0
METHOD:PUBLISH
PRODID:-//Accessible Web Design//My Calendar//http://www.joedolson.com//v//EN';
BEGIN:VEVENT
UID:3-3
LOCATION:
SUMMARY:Happy St. Patrick's Day!
DTSTAMP:20230316
ORGANIZER;CN=Rob Adams:MAILTO:radams@local68.org
DTSTART:20230316
DTEND:20230318
CATEGORIES:General
URL;VALUE=URI:https://local68.org/mc-events/happy-st-patricks-day/?mc_id=3
DESCRIPTION:
X-FUNAMBOL-ALLDAY: 1
X-MICROSOFT-CDO-ALLDAYEVENT: TRUE

END:VEVENT
END:VCALENDAR