BEGIN:VCALENDAR
VERSION:2.0
METHOD:PUBLISH
PRODID:-//Accessible Web Design//My Calendar//http://www.joedolson.com//v//EN';
BEGIN:VEVENT
UID:28-26
LOCATION:Local 68 Training Center 14 Fairfield Place  West Caldwell NJ 07006
SUMMARY:Membership Meeting - Morning
DTSTAMP:20230511T093000
ORGANIZER;CN=Rob Adams:MAILTO:radams@local68.org
DTSTART:20230511T093000
DTEND:20230511T103000
CATEGORIES:Membership Meeting
URL;VALUE=URI:https://local68.org/mc-events/membership-meeting-morning-2/?mc_id=28
DESCRIPTION:
END:VEVENT
END:VCALENDAR