BEGIN:VCALENDAR
VERSION:2.0
METHOD:PUBLISH
PRODID:-//Accessible Web Design//My Calendar//http://www.joedolson.com//v//EN';
BEGIN:VEVENT
UID:2-2
LOCATION:Hanover Manor 16 Eagle Rock Avenue  East Hanover NJ
SUMMARY:62nd Annual Engineers’ Sunday
DTSTAMP:20230129T093000
ORGANIZER;CN=Rob Adams:MAILTO:radams@local68.org
DTSTART:20230129T093000
DTEND:20230129T103000
CATEGORIES:Event
URL;VALUE=URI:https://local68.org/mc-events/62nd-annual-engineers-sunday/?mc_id=2
DESCRIPTION:A LOCAL 68 TRADITION Ecumenical Mass for the Living and Deceased Members of International Union of Operating Engineers Local Union 68 SUNDAY, APRIL 29, 2023 - 9:30 am Hanover Manor 16 Eagle Rock Avenue, East Hanover, New Jersey  Mass at 9:30 a.m.-with Breakfast immediately following Click here to purchase tickets.
END:VEVENT
END:VCALENDAR