BEGIN:VCALENDAR
VERSION:2.0
METHOD:PUBLISH
PRODID:-//Accessible Web Design//My Calendar//http://www.joedolson.com//v//EN';
BEGIN:VEVENT
UID:17-9
LOCATION:
SUMMARY:Memorial Day - Local 68 offices closed
DTSTAMP:20230529T000000
ORGANIZER;CN=Rob Adams:MAILTO:radams@local68.org
DTSTART:20230529T000000
DTEND:20230529T010000
CATEGORIES:Holiday - Local 68 closed
URL;VALUE=URI:https://local68.org/mc-events/memorial-day-local-68-offices-closed/?mc_id=17
DESCRIPTION:
END:VEVENT
END:VCALENDAR