BEGIN:VCALENDAR
VERSION:2.0
METHOD:PUBLISH
PRODID:-//Accessible Web Design//My Calendar//http://www.joedolson.com//v//EN';
BEGIN:VEVENT
UID:14-6
LOCATION:
SUMMARY:Veteran's Day - Local 68 offices closed
DTSTAMP:20231110
ORGANIZER;CN=Rob Adams:MAILTO:radams@local68.org
DTSTART:20231110
DTEND:20231112
CATEGORIES:Holiday - Local 68 closed
URL;VALUE=URI:https://local68.org/mc-events/veterans-day-local-68-offices-closed/?mc_id=14
DESCRIPTION:
X-FUNAMBOL-ALLDAY: 1
X-MICROSOFT-CDO-ALLDAYEVENT: TRUE

END:VEVENT
END:VCALENDAR