BEGIN:VCALENDAR
VERSION:2.0
METHOD:PUBLISH
PRODID:-//Accessible Web Design//My Calendar//http://www.joedolson.com//v//EN';
BEGIN:VEVENT
UID:13-5
LOCATION:
SUMMARY:New Years Day - Local 68 offices closed
DTSTAMP:20221231
ORGANIZER;CN=Rob Adams:MAILTO:radams@local68.org
DTSTART:20221231
DTEND:20230102
CATEGORIES:Holiday - Local 68 closed
URL;VALUE=URI:https://local68.org/mc-events/new-years-day-local-68-offices-closed/?mc_id=13
DESCRIPTION:
X-FUNAMBOL-ALLDAY: 1
X-MICROSOFT-CDO-ALLDAYEVENT: TRUE

END:VEVENT
END:VCALENDAR