BEGIN:VCALENDAR
VERSION:2.0
METHOD:PUBLISH
PRODID:-//Accessible Web Design//My Calendar//http://www.joedolson.com//v//EN';
BEGIN:VEVENT
UID:100-53
LOCATION:Hanover Manor 16 Eagle Rock Avenue  East Hanover NJ
SUMMARY:Holiday Meeting - North NJ
DTSTAMP:20241205T183000
ORGANIZER;CN=Rob Adams:MAILTO:radams@local68.org
DTSTART:20241205T183000
DTEND:20241205T193000
CATEGORIES:Membership Meeting
URL;VALUE=URI:https://local68.org/mc-events/holiday-meeting-north-nj-2/?mc_id=100
DESCRIPTION:Food, Drink, and Holiday cheer! &nbsp;
END:VEVENT
END:VCALENDAR