BEGIN:VCALENDAR
VERSION:2.0
METHOD:PUBLISH
PRODID:-//Accessible Web Design//My Calendar//http://www.joedolson.com//v//EN';
BEGIN:VEVENT
UID:110-55
LOCATION:Local 68 Training Center 14 Fairfield Place  West Caldwell NJ 07006
SUMMARY:Shop Steward Training
DTSTAMP:20240320T170000
ORGANIZER;CN=Rob Adams:MAILTO:radams@local68.org
DTSTART:20240320T170000
DTEND:20240320T203000
CATEGORIES:Training
URL;VALUE=URI:https://local68.org/mc-events/shop-steward-training/?mc_id=110
DESCRIPTION:NORTH JERSEY SHOP STEWARD SEMINARS FEBRUARY 21ST – MARCH 27TH Classes will be held every Wednesday evening for six weeks. 5:30pm – 8:30pm 14 Fairfield Place, West Caldwell, NJ Food &amp; Refreshments will be served at 5:00pm. The training will be provided by Rutgers University School of Management and Labor Relations, and Raymond G. Heineman,&hellip;
END:VEVENT
END:VCALENDAR